BEGIN:VCALENDAR
VERSION:2.0
PRODID:-//The Islands of Marathon - ECPv6.15.17.1//NONSGML v1.0//EN
CALSCALE:GREGORIAN
METHOD:PUBLISH
X-ORIGINAL-URL:https://floridakeysmarathon.com
X-WR-CALDESC:Events for The Islands of Marathon
REFRESH-INTERVAL;VALUE=DURATION:PT1H
X-Robots-Tag:noindex
X-PUBLISHED-TTL:PT1H
BEGIN:VTIMEZONE
TZID:America/New_York
BEGIN:DAYLIGHT
TZOFFSETFROM:-0500
TZOFFSETTO:-0400
TZNAME:EDT
DTSTART:20240310T070000
END:DAYLIGHT
BEGIN:STANDARD
TZOFFSETFROM:-0400
TZOFFSETTO:-0500
TZNAME:EST
DTSTART:20241103T060000
END:STANDARD
BEGIN:DAYLIGHT
TZOFFSETFROM:-0500
TZOFFSETTO:-0400
TZNAME:EDT
DTSTART:20250309T070000
END:DAYLIGHT
BEGIN:STANDARD
TZOFFSETFROM:-0400
TZOFFSETTO:-0500
TZNAME:EST
DTSTART:20251102T060000
END:STANDARD
BEGIN:DAYLIGHT
TZOFFSETFROM:-0500
TZOFFSETTO:-0400
TZNAME:EDT
DTSTART:20260308T070000
END:DAYLIGHT
BEGIN:STANDARD
TZOFFSETFROM:-0400
TZOFFSETTO:-0500
TZNAME:EST
DTSTART:20261101T060000
END:STANDARD
END:VTIMEZONE
BEGIN:VEVENT
DTSTART;TZID=America/New_York:20250521T000000
DTEND;TZID=America/New_York:20251231T235959
DTSTAMP:20260421T041743
CREATED:20250502T142231Z
LAST-MODIFIED:20250502T142232Z
UID:21038-1747785600-1767225599@floridakeysmarathon.com
SUMMARY:HISTORY OF DIVING MUSEUM-CELEBRATING 20 YEARS! FEATURED EXHIBIT
DESCRIPTION:
URL:https://floridakeysmarathon.com/event/history-of-diving-museum-celebrating-20-years-featured-exhibit/
ORGANIZER;CN="History of Diving Museum":MAILTO:info@divingmuseum.org
END:VEVENT
BEGIN:VEVENT
DTSTART;TZID=America/New_York:20250716T173000
DTEND;TZID=America/New_York:20250716T193000
DTSTAMP:20260421T041743
CREATED:20250714T163721Z
LAST-MODIFIED:20250714T163722Z
UID:21319-1752687000-1752694200@floridakeysmarathon.com
SUMMARY:LEADERSHIP MONROE COUNTY- CLASS XXXIII COMMUNITY SOCIALS
DESCRIPTION:
URL:https://floridakeysmarathon.com/event/leadership-monroe-county-class-xxxiii-community-socials-2/
END:VEVENT
BEGIN:VEVENT
DTSTART;TZID=America/New_York:20250716T190000
DTEND;TZID=America/New_York:20250716T210000
DTSTAMP:20260421T041743
CREATED:20250502T141906Z
LAST-MODIFIED:20250502T141907Z
UID:21035-1752692400-1752699600@floridakeysmarathon.com
SUMMARY:fREE IMMERSE YOURSELF PRESENTATION-THE SCIENCE OF SUBMERSIBLES
DESCRIPTION:
URL:https://floridakeysmarathon.com/event/free-immerse-yourself-presentation-the-science-of-submersibles/
ORGANIZER;CN="History of Diving Museum":MAILTO:info@divingmuseum.org
END:VEVENT
END:VCALENDAR